BEGIN:VCALENDAR
VERSION:2.0
PRODID:-//Ecole Sainte Germaine Samatan - ECPv6.2.8.2//NONSGML v1.0//EN
CALSCALE:GREGORIAN
METHOD:PUBLISH
X-ORIGINAL-URL:https://www.ecolepriveesamatan-stegermaine.fr
X-WR-CALDESC:évènements pour Ecole Sainte Germaine Samatan
REFRESH-INTERVAL;VALUE=DURATION:PT1H
X-Robots-Tag:noindex
X-PUBLISHED-TTL:PT1H
BEGIN:VTIMEZONE
TZID:Europe/Paris
BEGIN:DAYLIGHT
TZOFFSETFROM:+0100
TZOFFSETTO:+0200
TZNAME:CEST
DTSTART:20240331T010000
END:DAYLIGHT
BEGIN:STANDARD
TZOFFSETFROM:+0200
TZOFFSETTO:+0100
TZNAME:CET
DTSTART:20241027T010000
END:STANDARD
BEGIN:DAYLIGHT
TZOFFSETFROM:+0100
TZOFFSETTO:+0200
TZNAME:CEST
DTSTART:20250330T010000
END:DAYLIGHT
BEGIN:STANDARD
TZOFFSETFROM:+0200
TZOFFSETTO:+0100
TZNAME:CET
DTSTART:20251026T010000
END:STANDARD
BEGIN:DAYLIGHT
TZOFFSETFROM:+0100
TZOFFSETTO:+0200
TZNAME:CEST
DTSTART:20260329T010000
END:DAYLIGHT
BEGIN:STANDARD
TZOFFSETFROM:+0200
TZOFFSETTO:+0100
TZNAME:CET
DTSTART:20261025T010000
END:STANDARD
END:VTIMEZONE
BEGIN:VEVENT
DTSTART;TZID=Europe/Paris:20260327T180000
DTEND;TZID=Europe/Paris:20260327T190000
DTSTAMP:20260422T151809
CREATED:20251104T085433Z
LAST-MODIFIED:20251104T085433Z
UID:2219-1774634400-1774638000@www.ecolepriveesamatan-stegermaine.fr
SUMMARY:conseil d'école
DESCRIPTION:
URL:https://www.ecolepriveesamatan-stegermaine.fr/event/conseil-decole-5/
END:VEVENT
BEGIN:VEVENT
DTSTART;TZID=Europe/Paris:20260327T103000
DTEND;TZID=Europe/Paris:20260327T111500
DTSTAMP:20260422T151809
CREATED:20251104T085334Z
LAST-MODIFIED:20251104T085334Z
UID:2217-1774607400-1774610100@www.ecolepriveesamatan-stegermaine.fr
SUMMARY:célébration de Pâques
DESCRIPTION:
URL:https://www.ecolepriveesamatan-stegermaine.fr/event/celebration-de-paques/
END:VEVENT
BEGIN:VEVENT
DTSTART;TZID=Europe/Paris:20260323T080000
DTEND;TZID=Europe/Paris:20260327T170000
DTSTAMP:20260422T151809
CREATED:20260302T145748Z
LAST-MODIFIED:20260302T145748Z
UID:2315-1774252800-1774630800@www.ecolepriveesamatan-stegermaine.fr
SUMMARY:semaine des APEL
DESCRIPTION:
URL:https://www.ecolepriveesamatan-stegermaine.fr/event/semaine-des-apel/
END:VEVENT
BEGIN:VEVENT
DTSTART;TZID=Europe/Paris:20260316T080000
DTEND;TZID=Europe/Paris:20260321T170000
DTSTAMP:20260422T151809
CREATED:20260302T145652Z
LAST-MODIFIED:20260302T145652Z
UID:2313-1773648000-1774112400@www.ecolepriveesamatan-stegermaine.fr
SUMMARY:festival du livre
DESCRIPTION:
URL:https://www.ecolepriveesamatan-stegermaine.fr/event/festival-du-livre/
END:VEVENT
BEGIN:VEVENT
DTSTART;TZID=Europe/Paris:20260312T000000
DTEND;TZID=Europe/Paris:20260313T000000
DTSTAMP:20260422T151809
CREATED:20260302T145609Z
LAST-MODIFIED:20260302T145609Z
UID:2311-1773273600-1773360000@www.ecolepriveesamatan-stegermaine.fr
SUMMARY:classe découverte ce2 cm1
DESCRIPTION:
URL:https://www.ecolepriveesamatan-stegermaine.fr/event/classe-decouverte-ce2-cm1/
END:VEVENT
BEGIN:VEVENT
DTSTART;TZID=Europe/Paris:20260220T164500
DTEND;TZID=Europe/Paris:20260220T180000
DTSTAMP:20260422T151809
CREATED:20251104T085055Z
LAST-MODIFIED:20251104T085055Z
UID:2214-1771605900-1771610400@www.ecolepriveesamatan-stegermaine.fr
SUMMARY:carnaval
DESCRIPTION:
URL:https://www.ecolepriveesamatan-stegermaine.fr/event/carnaval-5/
END:VEVENT
BEGIN:VEVENT
DTSTART;TZID=Europe/Paris:20260131T090000
DTEND;TZID=Europe/Paris:20260131T120000
DTSTAMP:20260422T151809
CREATED:20251104T104352Z
LAST-MODIFIED:20251104T104352Z
UID:2226-1769850000-1769860800@www.ecolepriveesamatan-stegermaine.fr
SUMMARY:portes ouvertes
DESCRIPTION:
URL:https://www.ecolepriveesamatan-stegermaine.fr/event/portes-ouvertes-5/
END:VEVENT
BEGIN:VEVENT
DTSTART;TZID=Europe/Paris:20251218T164500
DTEND;TZID=Europe/Paris:20251218T183000
DTSTAMP:20260422T151809
CREATED:20251104T084843Z
LAST-MODIFIED:20251104T084843Z
UID:2212-1766076300-1766082600@www.ecolepriveesamatan-stegermaine.fr
SUMMARY:célébration suivie du marché de Noël
DESCRIPTION:
URL:https://www.ecolepriveesamatan-stegermaine.fr/event/celebration-suivie-du-marche-de-noel/
END:VEVENT
BEGIN:VEVENT
DTSTART;TZID=Europe/Paris:20251212T080000
DTEND;TZID=Europe/Paris:20251212T170000
DTSTAMP:20260422T151809
CREATED:20251104T090341Z
LAST-MODIFIED:20251104T090341Z
UID:2224-1765526400-1765558800@www.ecolepriveesamatan-stegermaine.fr
SUMMARY:spectacle de Noël
DESCRIPTION:
URL:https://www.ecolepriveesamatan-stegermaine.fr/event/spectacle-de-noel-4/
END:VEVENT
BEGIN:VEVENT
DTSTART;TZID=Europe/Paris:20250621T080000
DTEND;TZID=Europe/Paris:20250621T170000
DTSTAMP:20260422T151809
CREATED:20241001T070520Z
LAST-MODIFIED:20241001T070520Z
UID:2035-1750492800-1750525200@www.ecolepriveesamatan-stegermaine.fr
SUMMARY:kermesse
DESCRIPTION:
URL:https://www.ecolepriveesamatan-stegermaine.fr/event/kermesse-4/
END:VEVENT
BEGIN:VEVENT
DTSTART;TZID=Europe/Paris:20250513T093000
DTEND;TZID=Europe/Paris:20250513T113000
DTSTAMP:20260422T151809
CREATED:20241105T101826Z
LAST-MODIFIED:20241105T101826Z
UID:2064-1747128600-1747135800@www.ecolepriveesamatan-stegermaine.fr
SUMMARY:cinéma cycle 2
DESCRIPTION:
URL:https://www.ecolepriveesamatan-stegermaine.fr/event/cinema-cycle-2-6/
END:VEVENT
BEGIN:VEVENT
DTSTART;TZID=Europe/Paris:20250408T083000
DTEND;TZID=Europe/Paris:20250408T113000
DTSTAMP:20260422T151809
CREATED:20250304T140446Z
LAST-MODIFIED:20250304T140732Z
UID:2167-1744101000-1744111800@www.ecolepriveesamatan-stegermaine.fr
SUMMARY:célébration de pâques pour les enfants
DESCRIPTION:
URL:https://www.ecolepriveesamatan-stegermaine.fr/event/celebration-de-paques-pour-les-enfants/
END:VEVENT
BEGIN:VEVENT
DTSTART;TZID=Europe/Paris:20250404T100000
DTEND;TZID=Europe/Paris:20250404T110000
DTSTAMP:20260422T151809
CREATED:20241105T101734Z
LAST-MODIFIED:20241105T101734Z
UID:2062-1743760800-1743764400@www.ecolepriveesamatan-stegermaine.fr
SUMMARY:cinéma cycle 1
DESCRIPTION:
URL:https://www.ecolepriveesamatan-stegermaine.fr/event/cinema-cycle-1-3/
END:VEVENT
BEGIN:VEVENT
DTSTART;TZID=Europe/Paris:20250328T163000
DTEND;TZID=Europe/Paris:20250328T180000
DTSTAMP:20260422T151809
CREATED:20241001T070433Z
LAST-MODIFIED:20241001T070433Z
UID:2033-1743179400-1743184800@www.ecolepriveesamatan-stegermaine.fr
SUMMARY:carnaval
DESCRIPTION:
URL:https://www.ecolepriveesamatan-stegermaine.fr/event/carnaval-4/
END:VEVENT
BEGIN:VEVENT
DTSTART;TZID=Europe/Paris:20250328T093000
DTEND;TZID=Europe/Paris:20250328T113000
DTSTAMP:20260422T151809
CREATED:20241105T101648Z
LAST-MODIFIED:20241105T101648Z
UID:2060-1743154200-1743161400@www.ecolepriveesamatan-stegermaine.fr
SUMMARY:cinéma cycle 3
DESCRIPTION:
URL:https://www.ecolepriveesamatan-stegermaine.fr/event/cinema-cycle-3-5/
END:VEVENT
BEGIN:VEVENT
DTSTART;TZID=Europe/Paris:20250317T173000
DTEND;TZID=Europe/Paris:20250317T190000
DTSTAMP:20260422T151809
CREATED:20241001T070351Z
LAST-MODIFIED:20250304T140348Z
UID:2031-1742232600-1742238000@www.ecolepriveesamatan-stegermaine.fr
SUMMARY:conseil d'école
DESCRIPTION:
URL:https://www.ecolepriveesamatan-stegermaine.fr/event/conseil-decole-4/
END:VEVENT
BEGIN:VEVENT
DTSTART;TZID=Europe/Paris:20250311T093000
DTEND;TZID=Europe/Paris:20250311T110000
DTSTAMP:20260422T151809
CREATED:20241105T101535Z
LAST-MODIFIED:20241105T101535Z
UID:2058-1741685400-1741690800@www.ecolepriveesamatan-stegermaine.fr
SUMMARY:cinéma cycle 2
DESCRIPTION:
URL:https://www.ecolepriveesamatan-stegermaine.fr/event/cinema-cycle-2-5/
END:VEVENT
BEGIN:VEVENT
DTSTART;TZID=Europe/Paris:20250310T083000
DTEND;TZID=Europe/Paris:20250314T163000
DTSTAMP:20260422T151809
CREATED:20250304T140248Z
LAST-MODIFIED:20250304T140308Z
UID:2165-1741595400-1741969800@www.ecolepriveesamatan-stegermaine.fr
SUMMARY:semaine du livre
DESCRIPTION:
URL:https://www.ecolepriveesamatan-stegermaine.fr/event/semaine-du-livre/
END:VEVENT
BEGIN:VEVENT
DTSTART;TZID=Europe/Paris:20250307T083000
DTEND;TZID=Europe/Paris:20250307T163000
DTSTAMP:20260422T151809
CREATED:20250304T140107Z
LAST-MODIFIED:20250304T140107Z
UID:2163-1741336200-1741365000@www.ecolepriveesamatan-stegermaine.fr
SUMMARY:tournoi de basket  cm1cm2
DESCRIPTION:
URL:https://www.ecolepriveesamatan-stegermaine.fr/event/tournoi-de-basket-cm1cm2/
END:VEVENT
BEGIN:VEVENT
DTSTART;TZID=Europe/Paris:20250207T083000
DTEND;TZID=Europe/Paris:20250207T163000
DTSTAMP:20260422T151809
CREATED:20250114T143136Z
LAST-MODIFIED:20250114T143136Z
UID:2146-1738917000-1738945800@www.ecolepriveesamatan-stegermaine.fr
SUMMARY:tournoi de basket inter écoles
DESCRIPTION:Pour les cm1 et cm2
URL:https://www.ecolepriveesamatan-stegermaine.fr/event/tournoi-de-basket-inter-ecoles/
END:VEVENT
BEGIN:VEVENT
DTSTART;TZID=Europe/Paris:20250201T090000
DTEND;TZID=Europe/Paris:20250201T120000
DTSTAMP:20260422T151809
CREATED:20241001T070258Z
LAST-MODIFIED:20241001T070258Z
UID:2029-1738400400-1738411200@www.ecolepriveesamatan-stegermaine.fr
SUMMARY:portes ouvertes
DESCRIPTION:
URL:https://www.ecolepriveesamatan-stegermaine.fr/event/portes-ouvertes-4/
END:VEVENT
BEGIN:VEVENT
DTSTART;TZID=Europe/Paris:20250131T100000
DTEND;TZID=Europe/Paris:20250131T110000
DTSTAMP:20260422T151809
CREATED:20241105T101314Z
LAST-MODIFIED:20241105T101314Z
UID:2054-1738317600-1738321200@www.ecolepriveesamatan-stegermaine.fr
SUMMARY:cinéma cycle 1
DESCRIPTION:
URL:https://www.ecolepriveesamatan-stegermaine.fr/event/cinema-cycle-1-2/
END:VEVENT
BEGIN:VEVENT
DTSTART;TZID=Europe/Paris:20241217T163000
DTEND;TZID=Europe/Paris:20241217T180000
DTSTAMP:20260422T151809
CREATED:20241001T070203Z
LAST-MODIFIED:20241001T070203Z
UID:2027-1734453000-1734458400@www.ecolepriveesamatan-stegermaine.fr
SUMMARY:célébration \, marché de Noël
DESCRIPTION:
URL:https://www.ecolepriveesamatan-stegermaine.fr/event/celebration-marche-de-noel/
END:VEVENT
BEGIN:VEVENT
DTSTART;TZID=Europe/Paris:20241210T093000
DTEND;TZID=Europe/Paris:20241210T110000
DTSTAMP:20260422T151809
CREATED:20241105T101058Z
LAST-MODIFIED:20241105T101140Z
UID:2049-1733823000-1733828400@www.ecolepriveesamatan-stegermaine.fr
SUMMARY:cinema  cycle 3
DESCRIPTION:
URL:https://www.ecolepriveesamatan-stegermaine.fr/event/cinema-cycle-2-3/
END:VEVENT
BEGIN:VEVENT
DTSTART;TZID=Europe/Paris:20241206T083000
DTEND;TZID=Europe/Paris:20241206T123000
DTSTAMP:20260422T151809
CREATED:20241105T103838Z
LAST-MODIFIED:20241105T103838Z
UID:2068-1733473800-1733488200@www.ecolepriveesamatan-stegermaine.fr
SUMMARY:spectacle de Noël
DESCRIPTION:
URL:https://www.ecolepriveesamatan-stegermaine.fr/event/spectacle-de-noel-3/
END:VEVENT
BEGIN:VEVENT
DTSTART;TZID=Europe/Paris:20241129T123000
DTEND;TZID=Europe/Paris:20241129T173000
DTSTAMP:20260422T151809
CREATED:20241105T103748Z
LAST-MODIFIED:20241105T103748Z
UID:2066-1732883400-1732901400@www.ecolepriveesamatan-stegermaine.fr
SUMMARY:Halle de la machine gscp et cpce1
DESCRIPTION:
URL:https://www.ecolepriveesamatan-stegermaine.fr/event/halle-de-la-machine-gscp-et-cpce1/
END:VEVENT
BEGIN:VEVENT
DTSTART;TZID=Europe/Paris:20241129T093000
DTEND;TZID=Europe/Paris:20241129T103000
DTSTAMP:20260422T151809
CREATED:20241105T101228Z
LAST-MODIFIED:20241105T101228Z
UID:2052-1732872600-1732876200@www.ecolepriveesamatan-stegermaine.fr
SUMMARY:cinema cycle 2
DESCRIPTION:
URL:https://www.ecolepriveesamatan-stegermaine.fr/event/cinema-cycle-2-4/
END:VEVENT
BEGIN:VEVENT
DTSTART;TZID=Europe/Paris:20241105T083000
DTEND;TZID=Europe/Paris:20241105T120000
DTSTAMP:20260422T151809
CREATED:20241001T070053Z
LAST-MODIFIED:20241001T070053Z
UID:2025-1730795400-1730808000@www.ecolepriveesamatan-stegermaine.fr
SUMMARY:photo de classe
DESCRIPTION:
URL:https://www.ecolepriveesamatan-stegermaine.fr/event/photo-de-classe-3/
END:VEVENT
BEGIN:VEVENT
DTSTART;TZID=Europe/Paris:20241012T090000
DTEND;TZID=Europe/Paris:20241012T120000
DTSTAMP:20260422T151809
CREATED:20241001T070011Z
LAST-MODIFIED:20241001T070011Z
UID:2023-1728723600-1728734400@www.ecolepriveesamatan-stegermaine.fr
SUMMARY:matinée solidarité
DESCRIPTION:
URL:https://www.ecolepriveesamatan-stegermaine.fr/event/matinee-solidarite-2/
END:VEVENT
BEGIN:VEVENT
DTSTART;TZID=Europe/Paris:20241001T153000
DTEND;TZID=Europe/Paris:20241001T163000
DTSTAMP:20260422T151809
CREATED:20241001T065908Z
LAST-MODIFIED:20241001T065908Z
UID:2021-1727796600-1727800200@www.ecolepriveesamatan-stegermaine.fr
SUMMARY:celebration de rentree
DESCRIPTION:
URL:https://www.ecolepriveesamatan-stegermaine.fr/event/celebration-de-rentree-5/
LOCATION:Eglise de Samatan
END:VEVENT
END:VCALENDAR